{
 "currentVersion": 11.2,
 "serviceDescription": "Caches/VALYNC21_Property_Redelivery_11273E363369N",
 "name": "Caches/VALYNC21_Property_Redelivery_11273E363369N",
 "description": "",
 "extent": {
  "xmin": 11257752,
  "ymin": 3633696,
  "xmax": 11315832,
  "ymax": 3670656,
  "spatialReference": {
   "wkid": 102747,
   "latestWkid": 2284
  }
 },
 "initialExtent": {
  "xmin": 11257752,
  "ymin": 3633696,
  "xmax": 11315832,
  "ymax": 3670656,
  "spatialReference": {
   "wkid": 102747,
   "latestWkid": 2284
  }
 },
 "fullExtent": {
  "xmin": 11257752,
  "ymin": 3633696,
  "xmax": 11315832,
  "ymax": 3670656,
  "spatialReference": {
   "wkid": 102747,
   "latestWkid": 2284
  }
 },
 "sortableFields": "",
 "bandCount": 5,
 "pixelType": "U8",
 "minValues": [
  0,
  0,
  0,
  0,
  0
 ],
 "maxValues": [
  255,
  255,
  255,
  217,
  255
 ],
 "meanValues": [
  89.026435952896,
  78.027277096852,
  64.80064888248,
  74.025955299207,
  157.0469838981
 ],
 "stdvValues": [
  72.661066877393,
  64.037388824965,
  53.563316481021,
  60.612203957982,
  123.31974987844
 ],
 "hasMultidimensions": false,
 "pixelSizeX": 0.25,
 "pixelSizeY": 0.25,
 "meanPixelSize": 0.07620015240030481,
 "datasetFormat": "MrSID",
 "uncompressedSize": 171730944000,
 "blockWidth": 1024,
 "blockHeight": 128,
 "compressionType": "Wavelet (MG4)",
 "bandNames": [
  "Band_1",
  "Band_2",
  "Band_3",
  "Band_4",
  "Band_5"
 ],
 "allowCopy": true,
 "allowAnalysis": true,
 "itemAccess": false,
 "inspectionCapabilities": "",
 "minPixelSize": 0,
 "maxPixelSize": 0,
 "copyrightText": "",
 "serviceDataType": "esriImageServiceDataTypeProcessed",
 "serviceSourceType": "esriImageServiceSourceTypeDataset",
 "objectIdField": "",
 "fields": [],
 "capabilities": "Image,Metadata,Mensuration",
 "defaultMosaicMethod": "Center",
 "allowedMosaicMethods": "",
 "sortField": "",
 "sortValue": null,
 "sortAscending": true,
 "mosaicOperator": "First",
 "defaultCompressionQuality": 75,
 "defaultResamplingMethod": "Bilinear",
 "maxImageHeight": 4100,
 "maxImageWidth": 15000,
 "allowRasterFunction": true,
 "rasterFunctionInfos": [
  {
   "name": "None",
   "description": "",
   "help": ""
  }
 ],
 "rasterTypeInfos": [
  {
   "name": "Raster Dataset",
   "description": "Supports all ArcGIS Raster Datasets",
   "help": ""
  }
 ],
 "mensurationCapabilities": "Basic",
 "hasHistograms": true,
 "hasColormap": false,
 "hasRasterAttributeTable": false,
 "minScale": 0,
 "maxScale": 0,
 "exportTilesAllowed": false,
 "supportsStatistics": false,
 "supportsAdvancedQueries": false,
 "editFieldsInfo": null,
 "ownershipBasedAccessControlForRasters": null,
 "allowComputeTiePoints": false,
 "useStandardizedQueries": true,
 "advancedQueryCapabilities": {
  "useStandardizedQueries": true,
  "supportsStatistics": false,
  "supportsOrderBy": false,
  "supportsDistinct": false,
  "supportsPagination": false
 },
 "spatialReference": {
  "wkid": 102747,
  "latestWkid": 2284
 }
}
