View In:
ArcGIS JavaScript
ArcGIS Online Map Viewer
ArcGIS Earth
Service Description: Caches/VALYNC21_Property_Redelivery_11273E363369N
Name: Caches/VALYNC21_Property_Redelivery_11273E363369N
Description:
Single Fused Map Cache: false
Extent:
XMin: 11257752
YMin: 3633696
XMax: 11315832
YMax: 3670656
Spatial Reference: 102747
(2284)
Initial Extent:
XMin: 11257752
YMin: 3633696
XMax: 11315832
YMax: 3670656
Spatial Reference: 102747
(2284)
Full Extent:
XMin: 11257752
YMin: 3633696
XMax: 11315832
YMax: 3670656
Spatial Reference: 102747
(2284)
Pixel Size X: 0.25
Pixel Size Y: 0.25
Band Count: 5
Pixel Type: U8
RasterFunction Infos: {"rasterFunctionInfos": [{
"name": "None",
"description": "",
"help": ""
}]}
Mensuration Capabilities: Basic
Inspection Capabilities:
Has Histograms: true
Has Colormap: false
Has Multi Dimensions : false
Rendering Rule:
Min Scale: 0
Max Scale: 0
Copyright Text:
Service Data Type: esriImageServiceDataTypeProcessed
Min Values: 0, 0, 0, 0, 0
Max Values: 255, 255, 255, 217, 255
Mean Values: 89.026435952896, 78.027277096852, 64.80064888248, 74.025955299207, 157.0469838981
Standard Deviation Values: 72.661066877393, 64.037388824965, 53.563316481021, 60.612203957982, 123.31974987844
Object ID Field:
Fields:
None
Default Mosaic Method: Center
Allowed Mosaic Methods:
SortField:
SortValue: null
Mosaic Operator: First
Default Compression Quality: 75
Default Resampling Method: Bilinear
Max Record Count: null
Max Image Height: 4100
Max Image Width: 15000
Max Download Image Count: null
Max Mosaic Image Count: null
Allow Raster Function: true
Allow Copy: true
Allow Analysis: true
Allow Compute TiePoints: false
Supports Statistics: false
Supports Advanced Queries: false
Use StandardizedQueries: true
Raster Type Infos:
Name: Raster Dataset
Description: Supports all ArcGIS Raster Datasets
Help:
Has Raster Attribute Table: false
Edit Fields Info: null
Ownership Based AccessControl For Rasters: null
Child Resources:
Info
Histograms
Statistics
Key Properties
Legend
Raster Function Infos
Supported Operations:
Export Image
Identify
Measure
Compute Histograms
Compute Statistics Histograms
Get Samples
Compute Class Statistics
Query Boundary
Compute Pixel Location
Compute Angles
Validate
Project